
BEGIN:VCALENDAR
VERSION:2.0
PRODID:-//Atlantic University - ECPv6.15.20//NONSGML v1.0//EN
CALSCALE:GREGORIAN
METHOD:PUBLISH
X-WR-CALNAME:Atlantic University
X-ORIGINAL-URL:https://atlanticu.edu
X-WR-CALDESC:Events for Atlantic University
REFRESH-INTERVAL;VALUE=DURATION:PT1H
X-Robots-Tag:noindex
X-PUBLISHED-TTL:PT1H
BEGIN:VTIMEZONE
TZID:America/Halifax
BEGIN:DAYLIGHT
TZOFFSETFROM:-0400
TZOFFSETTO:-0300
TZNAME:ADT
DTSTART:20250309T060000
END:DAYLIGHT
BEGIN:STANDARD
TZOFFSETFROM:-0300
TZOFFSETTO:-0400
TZNAME:AST
DTSTART:20251102T050000
END:STANDARD
BEGIN:DAYLIGHT
TZOFFSETFROM:-0400
TZOFFSETTO:-0300
TZNAME:ADT
DTSTART:20260308T060000
END:DAYLIGHT
BEGIN:STANDARD
TZOFFSETFROM:-0300
TZOFFSETTO:-0400
TZNAME:AST
DTSTART:20261101T050000
END:STANDARD
BEGIN:DAYLIGHT
TZOFFSETFROM:-0400
TZOFFSETTO:-0300
TZNAME:ADT
DTSTART:20270314T060000
END:DAYLIGHT
BEGIN:STANDARD
TZOFFSETFROM:-0300
TZOFFSETTO:-0400
TZNAME:AST
DTSTART:20271107T050000
END:STANDARD
END:VTIMEZONE
BEGIN:VEVENT
DTSTART;VALUE=DATE:20260421
DTEND;VALUE=DATE:20260424
DTSTAMP:20260422T095404
CREATED:20260410T161930Z
LAST-MODIFIED:20260417T153228Z
UID:4345-1776729600-1776988799@atlanticu.edu
SUMMARY:Semana de la Biblioteca
DESCRIPTION:El Centro de Recursos para la Información de Atlantic University se une a la celebración de la National Library Week con una programación especial del 21 al 23 de abril\, diseñada para promover la lectura\, la creatividad y el acceso al conocimiento entre nuestra comunidad universitaria. \nEsta celebración\, con más de seis décadas de historia\, resalta el valor de las bibliotecas y de sus profesionales en la transformación de vidas y el fortalecimiento de las comunidades. En Atlantic University\, reafirmamos ese compromiso al ofrecer espacios de aprendizaje\, intercambio cultural y desarrollo académico. \nDurante estos tres días\, estudiantes\, docentes y personal podrán participar en actividades educativas y recreativas que fomentan el amor por los libros y la apreciación del proceso creativo detrás de las publicaciones. \nEntre las iniciativas programadas se destacan una feria de libros con autores invitados\, un bingo en la biblioteca y una charla especializada sobre ilustración de libros infantiles. \nItinerario de Actividades\n📍 Centro de Estudiantes \nMartes 21 y miércoles 22 de abril🕘 9:00 a.m. – 2:00 p.m.Feria de libros y presentación de autoresUn espacio para descubrir nuevas lecturas\, conocer autores invitados y conectar con el mundo editorial. \nMiércoles\, 22 de abril🕥 10:30 a.m.Taller: “El espacio que narra: cómo el manejo visual construye la historia en el cuento infantil”Ofrecido por Ima I. Ríos Arroyo\, M.A.\, especialista en literatura infantil y juvenil (LIJ). Este taller explora cómo el uso del espacio en la ilustración se convierte en una poderosa herramienta narrativa. Enlace de registro para el taller: Enlace de Registro \nJueves\, 23 de abril🕥 10:30 a.m.Bingo en la biblioteca Una actividad recreativa para disfrutar en comunidad dentro de un ambiente dinámico y educativo. \n🕜 1:30 p.m. y 5:00 p.m. Taller virtual de O’ReillySesiones dirigidas al desarrollo de destrezas mediante recursos digitales especializados.\nEnlace de las 1:30 p.m.:  Enlace de Taller\nEnlace de las 5:00: Enlace de Taller \n 
URL:https://atlanticu.edu/event/semana-de-la-biblioteca/
LOCATION:Centro de Estudiantes\, Edificio E5\, Primer Piso\, Guaynabo\, Puerto Rico
CATEGORIES:Centro de Recursos,Event
ATTACH;FMTTYPE=image/jpeg:https://atlanticu.edu/wp-content/uploads/2026/04/semana-de-la-biblioteca-EMAIL-scaled.jpg
ORGANIZER;CN="Centro de Recursos":MAILTO:recursos@atlanticu.edu
END:VEVENT
BEGIN:VEVENT
DTSTART;TZID=America/Halifax:20260422T100000
DTEND;TZID=America/Halifax:20260422T120000
DTSTAMP:20260422T095404
CREATED:20260417T155714Z
LAST-MODIFIED:20260417T160614Z
UID:4400-1776852000-1776859200@atlanticu.edu
SUMMARY:Comunicación Efectiva: Cómo Vencer el Miedo a Hablar en Público
DESCRIPTION:¿Te da miedo hablar en público? ¡Este taller es para ti! \nEl Programa de Capacitación Estudiantil FISS y el Decanato Académico te invitan a participar de: \nComunicación Efectiva: Cómo vencer el miedo al hablar en público \n💬 Aprende técnicas prácticas para expresarte con seguridad\, confianza y claridad. \n📅 Miércoles\, 22 de abril\n🕒 10:15 AM\n📍 Anfiteatro \nConferenciante: Profa. Carmen Soto \nAtrévete a desarrollar tu voz y llevar tus habilidades de comunicación al próximo nivel. ¡Te esperamos!
URL:https://atlanticu.edu/event/comunicacion-efectiva-como-vencer-el-miedo-a-hablar-en-publico/
LOCATION:Centro de Estudiantes\, Edificio E5\, Primer Piso\, Guaynabo\, Puerto Rico
CATEGORIES:Event,Proyecto FISS
ATTACH;FMTTYPE=image/png:https://atlanticu.edu/wp-content/uploads/2026/04/Taller-Carmen-Sotosocial.png
ORGANIZER;CN="FISS (P031s230204)%3A Enhancing the University%E2%80%99s Environment to Foster Inclusiveness and Student Success":MAILTO:cmarquez@staff.atlanticu.edu
END:VEVENT
END:VCALENDAR